BEGIN:VCALENDAR
VERSION:2.0
PRODID:-//Gold Coast Via de Cristo - ECPv6.15.20//NONSGML v1.0//EN
CALSCALE:GREGORIAN
METHOD:PUBLISH
X-WR-CALNAME:Gold Coast Via de Cristo
X-ORIGINAL-URL:https://goldcoastviadecristo.com
X-WR-CALDESC:Events for Gold Coast Via de Cristo
REFRESH-INTERVAL;VALUE=DURATION:PT1H
X-Robots-Tag:noindex
X-PUBLISHED-TTL:PT1H
BEGIN:VTIMEZONE
TZID:America/New_York
BEGIN:DAYLIGHT
TZOFFSETFROM:-0500
TZOFFSETTO:-0400
TZNAME:EDT
DTSTART:20250309T070000
END:DAYLIGHT
BEGIN:STANDARD
TZOFFSETFROM:-0400
TZOFFSETTO:-0500
TZNAME:EST
DTSTART:20251102T060000
END:STANDARD
BEGIN:DAYLIGHT
TZOFFSETFROM:-0500
TZOFFSETTO:-0400
TZNAME:EDT
DTSTART:20260308T070000
END:DAYLIGHT
BEGIN:STANDARD
TZOFFSETFROM:-0400
TZOFFSETTO:-0500
TZNAME:EST
DTSTART:20261101T060000
END:STANDARD
BEGIN:DAYLIGHT
TZOFFSETFROM:-0500
TZOFFSETTO:-0400
TZNAME:EDT
DTSTART:20270314T070000
END:DAYLIGHT
BEGIN:STANDARD
TZOFFSETFROM:-0400
TZOFFSETTO:-0500
TZNAME:EST
DTSTART:20271107T060000
END:STANDARD
END:VTIMEZONE
BEGIN:VEVENT
DTSTART;TZID=America/New_York:20260808T083000
DTEND;TZID=America/New_York:20260808T120000
DTSTAMP:20260421T094350
CREATED:20260410T134127Z
LAST-MODIFIED:20260410T140614Z
UID:5215-1786177800-1786190400@goldcoastviadecristo.com
SUMMARY:Leadership Orientation
DESCRIPTION:Any questions or concerns\, please email Bert Dombrowsky: LD3.gcvdc@gmail \nAdmin
URL:https://goldcoastviadecristo.com/event/leadership-orientation-2/
LOCATION:Faith Lutheran Church\, 555 US 1\, North Palm Beach\, FL\, 33408\, United States
END:VEVENT
END:VCALENDAR