BEGIN:VCALENDAR
VERSION:2.0
PRODID:-//Gold Coast Via de Cristo - ECPv6.15.20//NONSGML v1.0//EN
CALSCALE:GREGORIAN
METHOD:PUBLISH
X-ORIGINAL-URL:https://goldcoastviadecristo.com
X-WR-CALDESC:Events for Gold Coast Via de Cristo
REFRESH-INTERVAL;VALUE=DURATION:PT1H
X-Robots-Tag:noindex
X-PUBLISHED-TTL:PT1H
BEGIN:VTIMEZONE
TZID:America/New_York
BEGIN:DAYLIGHT
TZOFFSETFROM:-0500
TZOFFSETTO:-0400
TZNAME:EDT
DTSTART:20250309T070000
END:DAYLIGHT
BEGIN:STANDARD
TZOFFSETFROM:-0400
TZOFFSETTO:-0500
TZNAME:EST
DTSTART:20251102T060000
END:STANDARD
BEGIN:DAYLIGHT
TZOFFSETFROM:-0500
TZOFFSETTO:-0400
TZNAME:EDT
DTSTART:20260308T070000
END:DAYLIGHT
BEGIN:STANDARD
TZOFFSETFROM:-0400
TZOFFSETTO:-0500
TZNAME:EST
DTSTART:20261101T060000
END:STANDARD
BEGIN:DAYLIGHT
TZOFFSETFROM:-0500
TZOFFSETTO:-0400
TZNAME:EDT
DTSTART:20270314T070000
END:DAYLIGHT
BEGIN:STANDARD
TZOFFSETFROM:-0400
TZOFFSETTO:-0500
TZNAME:EST
DTSTART:20271107T060000
END:STANDARD
END:VTIMEZONE
BEGIN:VEVENT
DTSTART;TZID=America/New_York:20260207T083000
DTEND;TZID=America/New_York:20260207T120000
DTSTAMP:20260419T081850
CREATED:20250513T203052Z
LAST-MODIFIED:20251008T134917Z
UID:5007-1770453000-1770465600@goldcoastviadecristo.com
SUMMARY:Leadership Orientation
DESCRIPTION:We are pleased to announce the Spring Gold Coast VDC Leadership Orientation Classes (formerly Leader School) \n____________________________________________________________________________ \n1. Mark your calendars \nSaturday\, February 7\, 2026  \nFaith Lutheran Church\, North Palm Beach \n\nBreakfast *  from 8:30 AM to 9:00 AM\nMeetings – 9:00 AM to Noon\n\n*A light breakfast\, coffee\, beverages will be provided \n2. Who should attend?\nFirst\, and foremost\, everyone is welcome…especially if you’re serving on Weekend 107. Refresh your knowledge while seeing your old friends and meeting others! \nAlso\, Leadership Orientation participation is mandatory for: \n\nThose serving Men’s or Women’s Team 107 who are new to VDC\nThose who have never attended Leadership Orientation\nThose who have not attended (Leadership School) in the past (3) years.\n\n3. Topics covered will include:\n\nVDC 101 (required for first timers)\nSponsorship\, Cha/Specialty Cha\nDining Room/Head Server\nKitchen\, Chapel Cha\nLeadership and Rollos\n\nThis is a great time to learn about VDC\, the essentials that make it a success\, behind the scenes efforts and more! \nBlessings\,\nJohn Elliott\nGCVDC Secretariat- Leadership Orientation Rep \nAdmin
URL:https://goldcoastviadecristo.com/event/leadership-orientation/
LOCATION:Faith Lutheran Church\, 555 US 1\, North Palm Beach\, FL\, 33408\, United States
ATTACH;FMTTYPE=image/jpeg:https://goldcoastviadecristo.com/wp-content/uploads/2025/05/Leaders-School-2026.jpg
END:VEVENT
BEGIN:VEVENT
DTSTART;TZID=America/New_York:20260319T173000
DTEND;TZID=America/New_York:20260322T170000
DTSTAMP:20260419T081850
CREATED:20250809T115427Z
LAST-MODIFIED:20260403T135558Z
UID:5023-1773941400-1774198800@goldcoastviadecristo.com
SUMMARY:Men's Weekend 108
DESCRIPTION:Men’s Gold Coast Via de Cristo Weekend 108 will take place on March 19-22\, 2026. \nSetup will be on March 18\, 2026. \nDetails To Be Announced. \nAdmin
URL:https://goldcoastviadecristo.com/event/mens-weekend-108/
LOCATION:FL
ATTACH;FMTTYPE=image/jpeg:https://goldcoastviadecristo.com/wp-content/uploads/2025/08/Mens-Weekend.jpg
END:VEVENT
BEGIN:VEVENT
DTSTART;TZID=America/New_York:20260416T183000
DTEND;TZID=America/New_York:20260419T173000
DTSTAMP:20260419T081850
CREATED:20251008T135459Z
LAST-MODIFIED:20260416T160323Z
UID:5043-1776364200-1776619800@goldcoastviadecristo.com
SUMMARY:Women's Weekend #108
DESCRIPTION:Women’s Weekend #108 will take place on April 16-19\,2026 at Faith Lutheran Church-US1\, North Palm Beach. \nThis move has the blessing of Pastor Mark Stillman – Faith Lutheran.\n\nThe event closes on Sunday @ 5:00 PM.\nAdmin
URL:https://goldcoastviadecristo.com/event/womens-weekend-108/
LOCATION:Faith Lutheran Church\, 555 US 1\, North Palm Beach\, FL\, 33408\, United States
ATTACH;FMTTYPE=image/jpeg:https://goldcoastviadecristo.com/wp-content/uploads/2025/10/Women-with-babys-breath-flowers.jpg
END:VEVENT
BEGIN:VEVENT
DTSTART;TZID=America/New_York:20260502T173000
DTEND;TZID=America/New_York:20260502T213000
DTSTAMP:20260419T081850
CREATED:20260114T201835Z
LAST-MODIFIED:20260114T203454Z
UID:5056-1777743000-1777757400@goldcoastviadecristo.com
SUMMARY:#108 Ultreya - Faith Lutheran
DESCRIPTION:Admin
URL:https://goldcoastviadecristo.com/event/108-ultreya-faith-lutheran/
LOCATION:Faith Lutheran Church\, 555 US 1\, North Palm Beach\, FL\, 33408\, United States
ATTACH;FMTTYPE=image/jpeg:https://goldcoastviadecristo.com/wp-content/uploads/2026/01/AdobeStock_258716054.jpg
END:VEVENT
BEGIN:VEVENT
DTSTART;TZID=America/New_York:20260530T173000
DTEND;TZID=America/New_York:20260530T210000
DTSTAMP:20260419T081850
CREATED:20260224T000714Z
LAST-MODIFIED:20260416T162144Z
UID:5099-1780162200-1780174800@goldcoastviadecristo.com
SUMMARY:GCVDC'S 50th Jubilee and Program Booklet Dedications
DESCRIPTION:🌟 Gold Coast Via de Cristo\nProgram Booklet Dedications & Advertisements\nSupport the mission and be part of this special gathering by placing a dedication or advertisement in our official event program booklet. \n📖 Available Options\nFull Page Advertisement — $100 \nPerfect for businesses\, ministries\, or families seeking a prominent presence in the program. \nHalf Page Advertisement — $50 \nA meaningful way to show support while sharing a message or small business listing. \nFriend of Gold Coast Via de Cristo — $25 \nYour name or family name is listed as a supporter in the program booklet. \nAdmin
URL:https://goldcoastviadecristo.com/event/gcvdcs-50th-jubilee/
LOCATION:St. Paul Lutheran Church\, 701 West Palmetto Park Road\, Boca Raton\, FL\, 33486\, United States
ATTACH;FMTTYPE=image/jpeg:https://goldcoastviadecristo.com/wp-content/uploads/2026/02/50th-jubilee2.jpg
ORGANIZER;CN="Marianne Dierker":MAILTO:gcvdc50th@gmail.com
END:VEVENT
BEGIN:VEVENT
DTSTART;TZID=America/New_York:20260808T083000
DTEND;TZID=America/New_York:20260808T120000
DTSTAMP:20260419T081850
CREATED:20260410T134127Z
LAST-MODIFIED:20260410T140614Z
UID:5215-1786177800-1786190400@goldcoastviadecristo.com
SUMMARY:Leadership Orientation
DESCRIPTION:Any questions or concerns\, please email Bert Dombrowsky: LD3.gcvdc@gmail \nAdmin
URL:https://goldcoastviadecristo.com/event/leadership-orientation-2/
LOCATION:Faith Lutheran Church\, 555 US 1\, North Palm Beach\, FL\, 33408\, United States
END:VEVENT
BEGIN:VEVENT
DTSTART;VALUE=DATE:20261001
DTEND;VALUE=DATE:20261005
DTSTAMP:20260419T081850
CREATED:20260403T135344Z
LAST-MODIFIED:20260403T140122Z
UID:5199-1790812800-1791158399@goldcoastviadecristo.com
SUMMARY:Men's Weekend 109
DESCRIPTION:Men’s Gold Coast Via de Cristo Weekend 109 will take place on October 1-4\, 2026.\nThe setup will be on September 30\, 2026. \nAdmin
URL:https://goldcoastviadecristo.com/event/mens-weekend-109/
LOCATION:St. Paul Lutheran Church\, 701 West Palmetto Park Road\, Boca Raton\, FL\, 33486\, United States
ATTACH;FMTTYPE=image/jpeg:https://goldcoastviadecristo.com/wp-content/uploads/2026/04/mens-1.jpg
ORGANIZER;CN="Marianne Dierker":MAILTO:gcvdc50th@gmail.com
END:VEVENT
BEGIN:VEVENT
DTSTART;VALUE=DATE:20261015
DTEND;VALUE=DATE:20261019
DTSTAMP:20260419T081850
CREATED:20260403T140530Z
LAST-MODIFIED:20260403T140530Z
UID:5205-1792022400-1792367999@goldcoastviadecristo.com
SUMMARY:Women's Weekend 109
DESCRIPTION:Women’s Weekend #109 will take place on October 15-18\,2026 at Advent Lutheran Church\, Boca Raton. \nAdmin
URL:https://goldcoastviadecristo.com/event/womens-weekend-109/
LOCATION:Advent Lutheran Church and School\, 300 E. Yamato Road (FL-794)\, Boca Raton\, 33431\, United States
ATTACH;FMTTYPE=image/jpeg:https://goldcoastviadecristo.com/wp-content/uploads/2026/04/women.jpg
ORGANIZER;CN="Marianne Dierker":MAILTO:gcvdc50th@gmail.com
END:VEVENT
END:VCALENDAR